BEGIN:VCALENDAR
VERSION:2.0
PRODID:-//Nature Vivante - ECPv4.4.5//NONSGML v1.0//EN
CALSCALE:GREGORIAN
METHOD:PUBLISH
X-WR-CALNAME:Nature Vivante
X-ORIGINAL-URL:https://nature-vivante.fr
X-WR-CALDESC:Events for Nature Vivante
BEGIN:VEVENT
DTSTART;TZID=Europe/Paris:20260606T143000
DTEND;TZID=Europe/Paris:20260606T163000
DTSTAMP:20260424T082859
CREATED:20260302T174436Z
LAST-MODIFIED:20260302T174912Z
UID:4170-1780756200-1780763400@nature-vivante.fr
SUMMARY:Un jardin au naturel à la Rosière
DESCRIPTION:Découvrir les pratiques d'un jardin respectueux de la biodiversité.
URL:https://nature-vivante.fr/event/jardin-naturel-a-rosiere/
LOCATION:place Saint Vincent\, Estrablin\, France
CATEGORIES:Sorties nature
ORGANIZER;CN="Nature%20Vivante":MAILTO:contact@nature-vivante.fr
END:VEVENT
END:VCALENDAR